{"text_format":"1","workbook":"xlsx","n_sheets":4,"sheets":["Rozpis příjmů 2019","Rozpis BV 2019","Rozpis KV 2019","Výdaje celkem dle oddílů"],"not_rendered":{"charts":0,"images":0,"macros":0,"external_links":0,"defined_names":6,"comments":0,"pivot_tables":0},"unopened":[],"bounds":{"document_bytes":16777216,"sheet_cells":100000,"rows_first":2000,"rows_last":500,"rows_between":2000,"halvings":0,"cell_chars":16384,"cell_head_chars":4096},"cells_cut":0,"cells_raw":0,"read":"whole","date_system":"1900"}

{"sheet":"Rozpis příjmů 2019","index":0,"n_rows":126,"n_cols":7,"rows_kept":126,"cut":false,"hidden":false,"merged":[[0,0,0,5]]}
["PŘÍJMY A FINANCOVÁNÍ (v tis. Kč) - rozpis plnění k 31.12.2019"]
[]
["POL","ODPA","Popis","Rozpočet 2019","Příjmy po změně 2019","Skutečnost k 31.12.2019","%plnění"]
[1111,"----","Daň z příjmů FO ze závislé činnosti",44200,44200,44239.199999999997,{"$f":"F4/E4*100","v":100.08868778280542}]
[1112,"----","Daň z příjmů FO ze samostatně výdělečné činnosti",800,800,1262.7,{"$f":"F5/E5*100","v":157.83750000000001}]
[1113,"----","Daň z příjmů FO z kapitálových výnosů",3100,3100,3763.2,121.39354838709677]
[1121,"----","Daň z příjmů právnických osob",33000,33000,35047.9,106.20575757575759]
[1122,"----","Daň z příjmů PO za obec",13600,13600,13596.6,99.975000000000009]
[11,null,"Daně z příjmů, zisku a kapitálových výnosů",94700,{"$f":"SUM(E4:E8)","v":94700},{"$f":"SUM(F4:F8)","v":97909.6},103.38922914466737]
[1211,"----","Daň z přidané hodnoty",79000,79000,78888.600000000006,99.858987341772149]
[12,null,"Daně ze zboží a služeb v tuzemsku",79000,{"$f":"SUM(E10)","v":79000},{"$f":"F10","v":78888.600000000006},99.858987341772149]
[1334,"----","Odvody za odnětí půdy ze zemědělského půdního fondu",5,5,0,0]
[1335,"----","Poplatky-odnětí pozemků plnění funkcí lesa",10,10,48.6,486.00000000000006]
[1340,"----","Poplatek za komunální odpad",8000,8000,8341.6,104.27]
[1341,"----","Poplatek ze psů",255,255,247.7,97.137254901960773]
[1343,"----","Poplatek za užívání veřejného prostranství",200,200,308.5,154.25]
[1353,"----","Příjmy za zkoušky-odborná způsobilost(řidičská oprávnění)",350,350,311.7,89.05714285714285]
[1361,"----","Správní poplatky",5500,5500,5020.2,91.276363636363627]
[1381,"----","Daň z hazardních her",1200,1200,933.5,77.791666666666671]
["1382/1383","----","Zrušený odvod z VHP a loterií",0,10,{"$f":"9.5+4.7","v":14.2},142]
[1385,"----","Daň z technických her",8800,8800,10143.299999999999,115.26477272727271]
[13,null,"Daně a poplatky z vybraných činností a služeb",24320,{"$f":"SUM(E12:E21)","v":24330},{"$f":"SUM(F12:F21)","v":25369.300000000003},104.27168105219894]
[1511,"----","Daň z nemovitých věcí",9900,9900,9970.2000000000007,100.70909090909093]
[15,null,"Majetkové daně",9900,{"$f":"SUM(E23)","v":9900},{"$f":"F23","v":9970.2000000000007},100.70909090909093]
[1,null,"Daňové příjmy",207920,{"$f":"SUM(E24,E22,E11,E9)","v":207930},{"$f":"SUM(F24,F22,F11,F9)","v":212137.7},102.02361371615447]
[2111,1039,"Lesní hospodářství-prodej dřeva ",15,53,0.2,0.37735849056603776]
[2111,2310,"Vodní hospodářství -vodné,stočné",55195,55195,56433.5,102.24386266871998]
[2111,3612,"Bytové hospodářství-zálohy služeb",6500,6500,6538,100.58461538461539]
[2111,3613,"Nebytové hospodářství",0,0,7.5,0]
[2111,3722,"Sběr a svoz komunálních odpadů",25,25,27.1,108.4]
[2111,3725,"Využívání a zneškodňování odpadů",4,4,5.8,145]
[2111,3900,"Poplatky za WC",10,10,6.7,67]
[2111,6171,"Činnost místní správy-kopírování,inzerce",30,30,29.9,99.666666666666657]
[2112,6171,"Činnost místní správy-prodej knih a publikací",25,25,3.1,12.4]
[2119,6171,"Ostatní příjmy z vlastní činnosti-věcná břemena",190,190,118.9,62.578947368421055]
[2122,3111,"Odvody příspěvkových organizací-MŠ (odpisy-FIPO)",455,455,458.6,100.7912087912088]
[2122,3113,"Odvody příspěvkových organizací-ZŠ (odpisy-FIPO)",1850,1850,1906.4,103.04864864864865]
[2122,3231,"Odvody příspěvkových organizací-ZUŠ (odpisy-FIPO)",77,77,78.3,101.6883116883117]
[2122,3233,"Odvody příspěvkových organizací-SVČ (odpisy-FIPO)",156,156,165.1,105.83333333333333]
[2122,3319,"Odvody příspěvkových organizací-MěKIS(odpisy-FIPO)",222,222,286.10000000000002,128.87387387387389]
[2131,1039,"Nájemné-lesní pozemky",750,750,750,100]
[2131,3639,"Nájemné-ostatní pozemky",550,550,{"$f":"644.4+8.5","v":652.9},118.7090909090909]
[2132,2310,"Nájemné-vodní hospodářství",0.1,0.1,0.1,100]
[2132,3612,"Nájemné-bytové hospodářství",11600,11600,12033.2,103.7344827586207]
[2132,3613,"Nájemné-nebytové hospodářství",6200,6200,7634.6,123.13870967741936]
[2132,3639,"Nájemné-ostatní pronájmy nemovitostí",6.1,6.1,6.1,100]
[2133,3639,"Příjmy z pronájmu movitých věcí",175,175,174.1,99.48571428571428]
[2139,3632,"Nájemné-hrobová místa",300,300,228.3,76.099999999999994]
[2139,3639,"Ostatní pronájmy majetku",115,115,108.3,94.173913043478265]
[2141,3611,"Příjmy z úroků půjček FRB",41.4,41.4,41.4,100]
[2141,6310,"Příjmy z úroků bankovních účtů",12,12,137.9,1149.1666666666667]
[2142,6399,"Ostatní finanční operace",0,327,377.1,115.3211009174312]
[2143,2299,"Ost.zálež.v dopravě",0,0,4.5,0]
[21,null,"Příjmy z vlastní činnosti a odvody přebytků organizací s přímým vztahem",84503.6,{"$f":"SUM(E26:E53)","v":84868.6},{"$f":"SUM(F26:F53)","v":88213.700000000026},103.94150486752464]
[2212,2169,"Sankční platby-stavební",20,20,7,35]
[2212,2299,"Sankční platby-doprava",10000,1000,1714.4,171.44000000000003]
[2212,3612,"Sankční platby-bytové",120,120,163.69999999999999,136.41666666666666]
[2212,3769,"Sankční platby-životní prostředí",50,50,84.1,168.2]
[2212,5311,"Sankční platby-veřejný pořádek",150,150,132.5,88.333333333333329]
[2229,6402,"Finanční vypořádání min.let",0,268.39999999999998,268.39999999999998,100]
[22,null,"Přijaté sankční platby a vratky transferů",10340,{"$f":"SUM(E55:E60)","v":1608.4},{"$f":"SUM(F55:F60)","v":2370.1},147.35762248196963]
[2310,6171,"Prodej krátkodobého a drobného majetku",10,10,0,0]
[2322,6171,"Přijaté pojistné náhrady",200,295,522.4,177.08474576271186]
[2324,1039,"Sankční platby - lesnictví",0,0,50.5,0]
[2324,2169,"Sankční platby-stavební(náklady řízení)",5,5,2,40]
[2324,2299,"Sankční platby-doprava(náklady řízení)",20,20,18.3,91.5]
[2324,3632,"Přijaté náhrady za cizí zesnulé",30,30,35.200000000000003,117.33333333333333]
[2324,3639,"Přijaté nekapit.náhrady (za el.rozvaděče)",75,75,92.4,123.2]
[2324,3769,"Sankční platby-životní prostředí (náklady řízení)",5,5,0,{"$f":"F69/E69*100","v":0}]
[2324,5311,"Sankční platby-veřejný  pořádek (náklady řízení)",15,15,27.4,182.66666666666666]
[2324,5512,"Přijaté nekapit.náhrady (za zásahy SDH)",0,78.400000000000006,78.400000000000006,100]
[2324,6171,"Přijaté nekapit.příspěvky a náhrady-ost.",50,120,122.4,102]
[2329,3613,"Nebytové hospodářství-ostatní nedaňové příjmy",50,50,0,0]
[2329,6171,"Činnost místní správy-ostatní nedaňové příjmy",50,50,187.5,375]
[2329,6409,"Ostatní činnosti j.n.",0,0,0.9,0]
[23,null,"Příjmy z prodeje nekapitálového majetku a ostatní nedaňové příjmy",510,{"$f":"SUM(E62:E75)","v":753.4},{"$f":"SUM(F62:F75)","v":1137.4000000000001},150.96894080169898]
[2420,"----","Splátky - od SVJ - fasády",333.8,333.8,333.8,100]
[2460,"----","Splátky - od obyvatelstva - půjčka sociální fond",30,30,20.9,69.666666666666671]
[24,null,"Přijaté splátky půjček",363.8,{"$f":"SUM(E77:E78)","v":363.8},{"$f":"SUM(F77:F78)","v":354.7},97.498625618471678]
[2,null,"Nedaňové příjmy",95717.4,{"$f":"SUM(E79,E76,E61,E54)","v":87594.200000000012},{"$f":"SUM(F79,F76,F61,F54)","v":92075.900000000023},105.11643464978275]
[3111,3639,"Komunální služby - prodej pozemků",4000,7076,7127.2,100.72357263990955]
[3113,3639,"Komunální služby",0,505,505,100]
[31,null,"Příjmy - prodej dlouhod.maj.",4000,7581,{"$f":"SUM(F81:F82)","v":7632.2},100.67537264213165]
[3,null,"Kapitálové příjmy",4000,{"$f":"E83","v":7581},{"$f":"F83","v":7632.2},100.67537264213165]
[4111,"----","Transfery - z pokladní správy",0,376.8,376.8,100]
[4112,"----","Transfery - souhrnný dotační vztah",19631.400000000001,19631.400000000001,19631.400000000001,100]
[4116,"----","Transfery - ze stát. rozpočtu",0,8966.7000000000007,8966.7000000000007,100]
[4121,"----","Transfery - od obcí",0,411.15999999999997,411.2,100.00972857281837]
[4122,"----","Transfery - od krajů",0,645,645,100]
[41,null,"Neinvestiční přijaté transfery",19631.400000000001,{"$f":"SUM(E85:E89)","v":30031.06},{"$f":"SUM(F85:F89)","v":30031.100000000002},100.00013319543166]
[4216,null,"Transfery - ze stát. rozpočtu",0,651.9,651.9,100]
[4222,"----","Transfery - od krajů ",0,700.1,700.1,100]
[42,null,"Investiční přijaté transfery",0,{"$f":"SUM(E91:E92)","v":1352},{"$f":"SUM(F91:F92)","v":1352},100]
[4,null,"Přijaté transfery",19631.400000000001,{"$f":"SUM(E93,E90)","v":31383.06},{"$f":"SUM(F93,F90)","v":31383.100000000002},100.00012745729703]
[null,null,"CELKEM PŘÍJMY",327268.8,{"$f":"E94+E84+E80+E25","v":334488.26},{"$f":"F94+F84+F80+F25","v":343228.9},102.61313805154177]
[]
[]
[8115,null,"Financování-zapojení volných finančních prostředků ZBÚ",{"$f":"24488.15+18500","v":42988.15},44061,null,0]
[8115,null,"Financování-zapojení finančních prostředků FBI (rekonstrukce komuk.Blanická)",4000,4000,null,0]
[8115,null,"Financování-zapojení finančních prostředků FIPO (ZŠ Hálkova-rekonstrukce střechy budovy školy)",3200,3200,null,0]
[8115,null,"Financování-odvod odpisů do FIPO",-2760,{"$f":"-SUM(E36:E40)","v":-2760},null,0]
[8115,null,"Financování-splátky půjček do SF",-30,{"$f":"-E78","v":-30},null,0]
[8115,null,"Financování-splátky půjček a úroků FRB",{"$f":"-D77-D50","v":-375.2},{"$f":"-E77-E50","v":-375.2},null,0]
[8115,null,"Financování-odvod finančních prostředků do FBI",-4000,{"$f":"-E83","v":-7581},null,0]
[8124,null,"Uhrazené splátky úvěru u KB",-1964,-1964,-1964,100]
[8124,null,"Uhrazené splátky úvěru u ČS",-3000,-3000,-3000,100]
[81,null,"Financování z tuzemska",38058.949999999997,{"$f":"SUM(E98:E106)","v":35550.800000000003},-13287.2,-37.375248939545664]
[89,null,"Opravné položky k peněž.oper.",0,0,-972.2]
[8,null,"CELKEM FINANCOVÁNÍ",38058.949999999997,{"$f":"SUM(E107:E108)","v":35550.800000000003},{"$f":"SUM(F107:F108)","v":-14259.400000000001}]
[null,null,"CELKEM PŘÍJMY + FINANCOVÁNÍ",{"$f":"D109+D95","v":365327.75},{"$f":"E109+E95","v":370039.06},{"$f":"F109+F95","v":328969.5},88.901290582675244]
[]
[]
[null,null,null,null,"Příjmy",{"$f":"F95","v":343228.9}]
[null,null,null,null,"Běžné výdaje",{"$f":"'Rozpis BV 2019'!G481","v":219113.5}]
[null,null,null,null,"Kapitálové výdaje",{"$f":"'Rozpis KV 2019'!G137","v":109855.96}]
[null,null,null,null,"Celkem výdaje",{"$f":"SUM(F114:F115)","v":328969.46000000002}]
[null,null,null,null,"Financování",{"$f":"F113-F114-F115","v":14259.440000000017}]
[]
[]
[null,null,null,null,"Běžné příjmy",{"$f":"F25+F80+F90","v":334244.7}]
[null,null,null,null,"Běžné výdaje",{"$f":"F114","v":219113.5}]
[]
[null,null,null,null,"Provozní saldo",{"$f":"F120-F121","v":115131.20000000001}]
[null,null,null,null,"Provozní saldo v % (podíl na běžných příjmech)",{"$f":"F123/F120","v":0.34445183424000442}]
[null,null,null,null,"Splátky úvěru",-3000]
[null,null,null,null,null,{"$f":"SUM(F125,F123)","v":112131.20000000001}]

{"sheet":"Rozpis BV 2019","index":1,"n_rows":481,"n_cols":8,"rows_kept":481,"cut":false,"hidden":false,"merged":[[0,0,0,6]]}
["BĚŽNÉ VÝDAJE (v tis. Kč) - rozpis plnění  k 31.12.2019"]
[]
["ODPA","POL","ORG","Popis","Rozpočet 2019","Běžné výdaje po změně 2019","Skutečnost k  31.12.2019","% Plnění SK/UR"]
[1014,5169,101400001,"Péče o opuštěná zvířata",300,300,275.43,{"$f":"G4/F4*100","v":91.81}]
[1014,5169,101400002,"Deratizace",120,120,100.4,{"$f":"G5/F5*100","v":83.666666666666671}]
[1037,5169,103700002,"Obnova genofondu lesů",0,17.8,0,0]
[1039,5169,103900001,"Lesní hospodář",200,200,190,95]
[1039,5169,103900004,"Ostatní lesnické práce",20,20,0,0]
[1039,5171,103900005,"Opravy lesních cest",200,200,196.67,98.334999999999994]
[1039,5179,103900006,"Členský příspěvek-SVOS lesů",6,6,5.61,93.5]
[10,null,null,"Zemědělství a lesnictví",{"$f":"SUM(E4:E10)","v":846},{"$f":"SUM(F4:F10)","v":863.8},768.11,88.922204213938414]
[2141,5137,null,"Farmářské trhy - DDHM",0,43,42.3,98.3720930232558]
[2141,5139,214100001,"Farmářské trhy-materiál",20,0,0,0]
[2141,5169,214100002,"Farmářské trhy-služby",130,114,113.9,99.912280701754383]
[21,null,null,"Průmysl,staveb.,obchod,služby",{"$f":"SUM(E12:E14)","v":150},{"$f":"SUM(F12:F14)","v":157},{"$f":"SUM(G12:G14)","v":156.19999999999999},99.490445859872594]
[2212,5166,221200001,"Studie komunikací",150,160,154.28,96.425000000000011]
[2212,5166,221200035,"Radar Rozkoš-studie proveditel.",50,50,0,0]
[2212,5169,221200002,"Čištění komunikací",2500,2700,2683.8,99.4]
[2212,5169,221200003,"Čištění MK- vybrané akce",130,130,126.3,97.153846153846146]
[2212,5169,221200004,"Psí exkrementy",500,600,582.79999999999995,97.133333333333326]
[2212,5169,221200005,"Zimní údržba komunikací",1500,2550,2336.4,91.623529411764721]
[2212,5169,221200025,"Místní komunikace - údržba",0,100,97.5,97.5]
[2212,5171,221200008,"Údržba kanalizačních vpustí",300,410,391.4,95.463414634146332]
[2212,5171,221200009,"Opravy MK město",1000,2118,2063.6999999999998,97.436260623229458]
[2212,5171,221200010,"Opravy MK-místní části",4000,2743,2251.4,82.078016769959902]
[2212,5171,221200020,"Dopravní značení Hrdličkova,Jindráčkova",180,52,28.8,55.384615384615387]
[2212,5171,221200021,"Dopravní značení - město",120,228,226,99.122807017543863]
[2212,5171,221200022,"Údržba přechodů",300,300,219.26,73.086666666666673]
[2212,5171,221200062,"Dopravní značení MČ",60,60,25,41.666666666666671]
[2212,5171,221200063,"Dopravní značení-Plačkov",20,20,0,0]
[2212,5171,221200072,"Opravy MK - metoda infra",1000,872,871.2,99.908256880733944]
[2219,5137,221900070,"Ostatní zál.poz.komun. DDHM",0,16.100000000000001,16.100000000000001,100]
[2219,5166,221900001,"Studie a projekty chodníků",150,140,39.299999999999997,28.071428571428569]
[2219,5169,221900007,"Zimní údržba chodníků",1000,1200,1064,88.666666666666671]
[2219,5171,221900002,"Opravy chodníků",200,233.9,183.2,78.32407011543394]
[2221,5171,222100001,"Opravy autobusových čekáren",120,120,5.31,4.4249999999999998]
[2229,5169,222900001,"Likvidace autovraků",5,5,0,0]
[2292,5193,229200002,"Dopravní obslužnost",100,100,53.2,53.2]
[22,null,null,"Doprava",{"$f":"SUM(E16:E38)","v":13385},{"$f":"SUM(F16:F38)","v":14908},{"$f":"SUM(G16:G38)","v":13418.95},90.011738663804678]
[2310,5151,231000001,"Voda - nákup pitné vody",11000,11000,10038.200000000001,91.256363636363645]
[2310,5166,231000002,"Voda - nové studie",300,50,10.9,21.8]
[2310,5166,231000003,"Vodovod Mánesova-studie oprav",175,0,0,0]
[2310,5166,231000004,"Vodovod Mararykova-studie oprav",60.5,60.5,60.5,100]
[2310,5166,231000005,"Vodovod Jihlavská-studie oprav",80,80,0,0]
[2310,5169,231000009,"Pumpy a studně Plačkov-kontrola",50,50,50,100]
[2310,5169,231000010,"Vodovod - provozovatelská smlouva",12256,12256,12194.2,99.495757180156659]
[2310,5171,231000011,"Vodovod - běžné opravy",43,214,211.9,99.018691588785046]
[2310,5171,231000024,"Oprava vodovodu Čejovská",242,242,241.6,99.834710743801651]
[2310,5171,231000025,"Vodovod Masarykova-oprava",900,900,898.62,99.846666666666678]
[2310,5171,231000026,"Vodovod Zahradní-oprava",4950,5408,5408,100]
[2310,5171,231000032,"Čerpací stanice Rozkoš-opravy",200,140,124.1,88.642857142857139]
[2310,5171,231000034,"Vodárenské dispečinky-opravy",450,450,422.85,93.966666666666683]
[2321,5166,232100001,"Kanalizace-studie",500,42,29.7,70.714285714285708]
[2321,5166,232100002,"Hygienizace kalů na ČOV-studie",100,0,0,0]
[2321,5166,232100025,"Kanalizace Jiřická",27.5,0,0,0]
[2321,5166,232100026,"Kanalizace U Kaštanu",34.700000000000003,0,0,0]
[2321,5166,232100027,"Kanalizace Mánesova",36.5,0,0,0]
[2321,5169,232100004,"Provoz ČOV v LTRN",257,257,256.10000000000002,99.649805447470825]
[2321,5169,232100007,"Kanalizace - provozovatelská smlouva",13595,13595,13581.3,99.899227657226916]
[2321,5169,232100012,"Zateplení budovy ČOV",22,22,18.84,85.636363636363626]
[2321,5171,232100008,"Kanalizace - běžné opravy",1444,1300,1034.4000000000001,79.569230769230785]
[2321,5171,232100013,"Budova ČOV-oprava fasády",400,0,0,0]
[2321,5171,232100014,"Elektroinst.a stropy ČOV-opravy",500,670,669.4,99.910447761194021]
[2321,5171,232100016,"Kanalizace Masarykova-oprava",1200,1200,1200,100]
[2321,5171,232100017,"Kanalizace Čejovská-oprava",220,220,219.88,99.945454545454552]
[2321,5171,232100033,"Oprava kanalizace u dopr.hřiště",0,468,467.3,99.850427350427353]
[2349,5222,234900001,"Dotace-Český ryb.svaz",15,15,15,100]
[2349,5222,234900002,"Dotace-Český ryb.svaz",45,45,45,100]
[23,null,null,"Vodní hospodářství",{"$f":"SUM(E40:E68)","v":49103.199999999997},{"$f":"SUM(F40:F68)","v":48684.5},{"$f":"SUM(G40:G68)","v":47197.79},{"$f":"G69/F69*100","v":96.946235454816218}]
[3111,5331,null,"Neinvestiční příspěvky zřízeným PO - MŠ",3850,3850,3850,100]
[3111,5336,null,"Neinvestiční transfery -MŠ- průtok",0,72,71.97,99.958333333333329]
[3113,5331,321,"Neinv. příspěvky zřízeným PO-ZŠ Hálkova ",7078,6673.9,6673.9,100]
[3113,5331,322,"Neinv. příspěvky zřízeným PO-ZŠ Hradská",5412,5602.2,5602.2,100]
[3113,5336,321,"Neinv. dotace zřízeným PO ZŠ Hálkova-průtok",0,1485.4,1485.4,100]
[3113,5901,null,"Rezerva oddílu vzdělávání",0,454.1,0,0]
[3119,5169,311900001,"Projekt Post Bellum",0,150,109.5,73]
[3119,5221,311900001,"Projekt Post Bellum",150,0,0,0]
[3121,5339,312100001,"Dotace-Gymnázium Dr.A.Hrdličky",50,50,50,100]
[3122,5339,312200001,"Dotace-Česká zem.akademie",40,40,40,100]
[31,null,null,"Vzdělávání předškolní a základní",{"$f":"SUM(E70:E79)","v":16580},{"$f":"SUM(F70:F79)","v":18377.599999999999},{"$f":"SUM(G70:G79)","v":17882.97},97.308516890127123]
[3231,5331,null,"Neinvestiční příspěvky zřízeným PO - ZUŠ",251,251,251,100]
[3231,5336,324,"Neinvestiční transfery zřízeným PO - ZUŠ-průtok",0,1166.2,1166.17,99.99742754244555]
[3233,5331,null,"Příspěvky zřízeným PO - SVČ",2139,2139,2139,100]
[32,null,null,"Vzdělávání a školské služby",2390,{"$f":"SUM(F81:F83)","v":3556.2},3556.17,99.999156402901974]
[3312,5222,331200001,"Dotace-Spol.pro rozvoj kultur.",22,22,22,100]
[3313,5221,331300001,"Dotace-Castrum (film.festival)",50,50,50,100]
[3314,5493,331400001,"Dotace-Mgr.Kamešová (Andersen)",4,4,4,100]
[3315,5139,331500002,"Antropologický kongres - materiál",150,150,141.30000000000001,94.2]
[3315,5164,331500003,"Antropologický kongres - nájemné",0,5,5,100]
[3315,5169,331500003,"Antropologický kongres - služby",500,290.10000000000002,146.4,50.465356773526374]
[3315,5175,331500003,"Antropologický kongres - pohoštění",0,91,90.5,99.45054945054946]
[3315,5194,331500004,"Antropologický kongres -věcné dary",60,173.91,173.91,100]
[3315,5494,331500001,"Ceny Dr. A. Hrdličky",60,60,15,25]
[3319,5222,331900002,"Dotace-Veřejná platforma(kult.akce)",100,100,100,100]
[3319,5331,null,"Neinvestiční příspěvky zřízeným PO-MěKIS",8648,8833.7000000000007,8833.7000000000007,100]
[3319,5336,3319002,"Grant pro MěKIS - Humpolecké kulturní léto -průtok",0,50,50,100]
[3319,5336,3319003,"Grant pro MěKIS - Podpora turistických center-průtok",0,52.7,52.7,100]
[3319,5493,331900001,"Dotace-Zabloudilová(čaroděj.)",10,10,10,100]
[3319,5493,331900003,"Dotace-Krejčí (kult.akce)",12,12,12,100]
[3319,5493,331900004,"Dotace-Vaněček(PechaKucha Nig)",10,10,10,100]
[3319,5493,331900005,"Dotace-Vyvadilová (kult.akce)",10,10,10,100]
[3319,5493,331900006,"Dotace-Hodač (Dětský fesťák)",10,10,10,100]
[3319,5493,331900008,"Dotace-Svobodová (kult.akce)",5,5,5,100]
[3319,5493,331900009,"Dotace-Varlamovič(vydání knihy)",50,50,50,100]
[3322,5154,332200010,"Budova čp. 338 Zichpil - el.energie",10,10,2.5,25]
[3322,5166,332200001,"Státní památková péče -posudky",30,13.3,0,0]
[3322,5169,332200002,"Hrad Orlík - služby, oprava(archeologie,studie,posudky)",150,150,75.400000000000006,50.266666666666673]
[3322,5169,332200003,"Budova čp. 253 Dolní nám.-údržba,revize",80,20,0,0]
[3322,5171,332200002,"Hrad Orlík - opravy",200,50,49.8,99.6]
[3322,5171,332200003,"Budova čp. 253 Dolní nám.-opravy",80,170,114.4,67.294117647058826]
[3322,5171,332200006,"SPP - opr. neudržitelných památek",20,20,0,0]
[3322,5171,332200009,"Budova čp. 250 Dolní nám.-opravy",60,60,52.7,87.833333333333343]
[3322,5171,332200010,"Budova čp. 338 Zichpil-opravy",50,50,38.4,76.8]
[3326,5154,332600004,"Toleranční kostel-el.energie",3,3,2.6,86.666666666666671]
[3326,5169,332600001,"Kapličky - revize",20,20,19,95]
[3326,5171,332600002,"Boží muka, křížky - opravy",20,20,11.9,59.5]
[3326,5171,332600003,"Kapličky - opravy",50,50,0,0]
[3326,5171,332600005,"Zvonička Hněvkovice-oprava",30,30,0.73,2.4333333333333331]
[3326,5171,332600006,"Kaplička Kletečná - opravy",60,60,38,63.333333333333329]
[3326,5171,332600007,"Kaplička Petrovice - opravy",150,150,149.31,99.54]
[3326,5213,null,"Dotace-Win Reality Win(fasáda čp.171  )",0,160,145.80000000000001,91.125000000000014]
[3326,5493,332600015,"Dotace-Eremková (fasáda čp.470)",0,205.53,205.5,99.985403590716686]
[3326,5901,"----------","Nespecifikované rezervy-rezerva na fasády historických objektů",500,134.47000000000003,0,0]
[3330,5223,333000003,"Dotace-Čes.církev evangel.",43.6,68.599999999999994,68.599999999999994,100]
[3330,5223,333000004,"Dotace-Římskokat.církev",15,15,15,100]
[3330,5223,333000005,"Dotace-Římskokat.církev",30,30,30,100]
[3399,5139,339900001,"KPOZ-materiál",50,50,18.8,37.6]
[3399,5169,339900002,"KPOZ-služby",30,30,23.8,79.333333333333329]
[3399,5194,339900003,"KPOZ-věcné dary",470,470,429.3,91.340425531914889]
[33,null,null,"Kultura, církve",11852.6,{"$f":"SUM(F85:F129)","v":12029.310000000001},{"$f":"SUM(G85:G129)","v":11283.049999999997},93.796319157125353]
[3412,5137,341200015,"Městská hřiště - herní prvky",300,35,0,0]
[3412,5137,341200016,"ZS, FS-defiblirátory",72,72,71.87,99.819444444444443]
[3412,5169,341200007,"Údržba hřiště Plačkov",0,21,0,{"$f":"G133/F133*100","v":0}]
[3412,5169,341200029,"Sportoviště - revize, kontroly",280,300,275.10000000000002,91.7]
[3412,5169,341200065,"Zimní stadion-revize kompresorů",120,100,0,0]
[3412,5169,341200066,"Provoz tenisových hal",95,95,94.4,99.368421052631589]
[3412,5171,341200001,"Údržba městských hřišť",350,424,388.3,91.580188679245282]
[3412,5171,341200002,"Údržba hřišť v MČ",300,226,126.84,56.123893805309734]
[3412,5171,341200003,"Opravy-Sportovní areál Okružní",1000,644.5,537.70000000000005,83.429014740108613]
[3412,5171,341200004,"Údržba hřiště Plačkov",20,20,7.3,36.5]
[3412,5171,341200005,"Údržba hřiště Vilémov",30,29,16.71,57.62068965517242]
[3412,5171,341200006,"Údržba sportovišť Krasoňov",50,50,24.39,48.78]
[3412,5171,341200007,"Údržba hřiště Plačkov",145,4.0999999999999996,4.13,100.73170731707317]
[3412,5171,341200040,"Koupaliště-oprava atrakcí",100,100,18.2,18.2]
[3412,5171,341200041,"Koupaliště-oprava brouzdaliště",100,100,99.03,99.03]
[3412,5171,341200044,"Zimní stadion-výměna kotle",150,150,139.52000000000001,93.013333333333335]
[3412,5171,341200045,"Zimní stadion-výměna ventilů",100,100,0,0]
[3412,5171,341200050,"Fotbalové hřiště-údržba přírodní trávy",200,250,224.5,89.8]
[3412,5171,341200051,"Fotbalové hřiště-oprava ploch",200,150,146.19999999999999,97.466666666666654]
[3412,5171,341200052,"Fotbalový stadion-výměna oken",70,70,67.489999999999995,96.414285714285711]
[3412,5171,341200062,"Tenisová hala Hálk.-oprava vod",50,50,40,80]
[3412,5171,341200063,"Tenisová hala Hálkova - údržba",50,50,43.01,86.02]
[3412,5171,341200067,"Tenisová hala Hradská - údržba",50,50,16.2,32.4]
[3412,5192,341200005,"Údržba hřiště Vilémov",0,1,1,100]
[3419,5169,341900009,"Sportovní akce města",5,5,0,0]
[3419,5175,341900009,"Sportovní akce města",5,5,4.5999999999999996,92]
[3419,5221,341900008,"Dotace-Soutěže podkovy",150,150,150,100]
[3419,5222,341900002,"Dotace-TJ Jiskra (činnost)",3600,3600,3600,100]
[3419,5222,341900003,"Dotace-TJ Jiskra (trenéři)",700.6,700.6,700,99.91435912075363]
[3419,5222,341900004,"Dotace-LTC (činnost,nájemné)",1224.46,1224.46,1224.46,100]
[3419,5222,341900005,"Dotace-LTC (trenéři)",150,150,150,100]
[3419,5222,341900011,"Dotace-Taekwondo (činnost)",20,20,20,100]
[3419,5222,341900013,"Dotace-Sdr.přátel Krasoňova",10,10,10,100]
[3419,5222,341900014,"Dotace-TJ Krasoňov",15,15,15,100]
[3419,5222,341900016,"Dotace-TJ Petrovice",30,30,30,100]
[3419,5222,341900017,"Dotace-TJ Plačkov",60,60,60,100]
[3419,5222,341900018,"Dotace-Automotoklub (závody)",420,420,420,100]
[3419,5222,341900019,"Dotace-Jezdecký klub(závody)",35,35,35,100]
[3419,5222,341900021,"Dotace-Jezdecký klub(trenéři)",20,20,20,100]
[3421,5137,342100002,"Dopravní hřiště-pořízení nových kol pro dopr.výuku",75,75,69.3,92.399999999999991]
[3421,5139,342100002,"Dopravní hřiště-odměny DSMC -místní a okresní kolo",12,12,7,58.333333333333336]
[3421,5169,342100002,"Dopravní hřiště-Služby DSMC",5,5,0,0]
[3421,5171,342100001,"Dopravní hřiště - opravy kol a zařízení",15,15,9.5,63.333333333333329]
[3421,5175,342100002,"Dopravní hřiště-občerstvení dopr.soutěž ml.cyklistů",8,8,1.71,21.375]
[3421,5222,342100003,"Dotace-AFC (činnost)",2000,2000,2000,100]
[3421,5222,342100004,"Dotace-AFC (trenéři)",300,300,300,100]
[3421,5222,342100005,"Dotace-ATOM Šlápoty(činnost)",30,30,30,100]
[3421,5222,342100007,"Dotace-Junák (činnost)",35,35,35,100]
[3429,5222,342900002,"Dotace-Klub Veteráni(přehlídka",5,5,5,100]
[3429,5222,342900003,"Dotace-Turisté (činnost)",23.3,23.3,23.3,100]
[3429,5222,342900004,"Dotace-KČT (činnost)",50,50,50,100]
[3429,5222,342900005,"Dotace-Svaz důch.(činnost)",60,60,60,100]
[3429,5222,342900006,"Dotace-Svaz chovatelů(výstava)",8,8,8,100]
[3429,5222,342900008,"Dotace-Český svaz včelařů",50,50,50,100]
[3429,5222,342900010,"Dotace-Mysliv. sdruž.Petrovice",20,20,20,100]
[3429,5222,342900011,"Dotace-Mysliv. sdruž. Humpolec",4,4,4,100]
[3429,5493,342900001,"Dotace-David Marek(triatlon)",5,5,5,100]
[3429,5493,342900012,"Dotace-Ing.Voplakal(sport.akce)",25,25,25,100]
[3429,5493,342900013,"Dotace-Prokůpek Vít (závody)",3,3,3,100]
[3429,5493,342900014,"Dotace-Ing.Dygrýn (basketbal)",30,30,30,100]
[3429,5493,342900015,"Dotace-Novák Aleš (cykl.závod)",10,10,10,100]
[34,null,null,"Sport a zájmová činnost",{"$f":"SUM(E131:E191)","v":13050.36},{"$f":"SUM(F131:F191)","v":12309.96},{"$f":"SUM(G131:G191)","v":11526.759999999998},93.637672258886298]
[3612,5139,null,"Bytové hospod.-materiál",50,50,48.6,97.2]
[3612,5151,"----------","Bytové hospod.-studená voda",1200,1285,1284.8,99.984435797665355]
[3612,5152,"----------","Bytové hospod.-teplo",3300,3215,2032.5,63.219284603421464]
[3612,5153,"----------","Bytové hospod.-plyn",400,400,225,56.25]
[3612,5154,"----------","Bytové hospod.-elektrická energie",400,400,334.5,{"$f":"G197/F197*100","v":83.625}]
[3612,5157,"----------","Bytové hospod.-teplá voda",700,700,596.70000000000005,85.242857142857147]
[3612,5161,"----------","Bytové hospod.-poštovní služby",25,25,19.399999999999999,77.599999999999994]
[3612,5162,"----------","Bytové hospod.-služby telekomunikací",10,10,6.9,69]
[3612,5169,361200006,"Bytový dům s MŠ (projekt)",0,47.5,47.5,100]
[3612,5169,"----------","Bytové hospod.-mandátní smlouva-správa bytů",600,600,578.4,96.399999999999991]
[3612,5169,null,"Bytové hospod.-zálohy na provozní služby",500,630,597.79999999999995,94.888888888888872]
[3612,5171,"----------","Bytové hospod.-výměny plynových kotlů",2000,1692,0,0]
[3612,5171,null,"Bytové hospod.-drobná údržba bytových domů",3850,3850,2909.5,75.571428571428569]
[3612,5909,"----------","Bytové hospod.-ostatní neinvestiční výdaje(vrácení přeplatků z vyúčt.služeb)",1200,1378,1376.54,99.894049346879527]
[3613,5137,361300076,"Nebyt.hospod.-Kavárna Stromovka-vybavení",500,231,230.56,99.80952380952381]
[3613,5137,361300090,"Nebyt.hospod.-čp.885 - lavice do čekáren",300,293.5,252.49,86.027257240204435]
[3613,5137,361300121,"Nebyt.hospod..-OV Plačkov-vybavení DDHM",10,10,0,0]
[3613,5137,361304424,"Nebytové prostory-veřejné WC-DDHM",0,6.5,6.5,100]
[3613,5139,361300001,"Nebyt.hospod.- označení budov čísly popis.",20,4,3.07,76.75]
[3613,5139,361304424,"Nebytové prostory-veřejné WC-materiál",10,26,13.8,53.07692307692308]
[3613,5151,361300003,"Nebytové prostory ostatní-voda",95,95,28.8,30.315789473684212]
[3613,5152,361300003,"Nebytové prostory ostatní-teplo",20,20,17.79,88.949999999999989]
[3613,5153,361300003,"Nebytové prostory ostatní-plyn",95,215,116.2,54.04651162790698]
[3613,5154,361300003,"Nebytové prostory ostatní-el.energie",360,510,454.7,89.156862745098039]
[3613,5169,361300005,"Nebytové - revize a kontroly elektro,plyn,výtahy",220,350,263.89999999999998,75.399999999999991]
[3613,5169,361300007,"Nebytové-obstaravatelská odměna",140,140,139.15,99.392857142857153]
[3613,5169,361300054,"Nebytové čp.389-servis výtahu",80,20,0,0]
[3613,5169,361300084,"Nebyt.-provoz čp.389 a čp.885-provoz zabezp.zařízení",60,60,44.5,74.166666666666671]
[3613,5169,361300091,"Nebyt.-čp.885-servis výtahu",100,30,0,0]
[3613,5169,361304424,"Nebytové -veřejné WC-služby",580,680,673.8,99.088235294117638]
[3613,5171,361300033,"Nebytové  čp.885 - DÚ",150,209.9,206.6,98.427822772748925]
[3613,5171,361300040,"Nebytové město-drobná údržba",100,102.3,102.3,100]
[3613,5171,361300041,"Nebytové OA místní části - DÚ",1300,1285,1108.4000000000001,86.256809338521407]
[3613,5171,361300055,"Nebytové čp.389 - DÚ",100,96.7,18,18.614270941054809]
[3613,5171,361300058,"Nebyt.-čp.389-ordinace MUDr.Zachová",300,0,0,0]
[3613,5171,361300078,"Nebyt.-čp.422 - drobná údržba HZS",100,100,86.6,86.6]
[3613,5171,361300080,"Nebyt.-požární zbrojnice Lhotka,Světl.",150,150,149.30000000000001,99.533333333333346]
[3613,5171,361300081,"Nebyt.-čp. 934 SOS -drobná údržba",100,100,70.22,70.22]
[3613,5171,361300087,"Nebyt.-čp.803 LTRN - drobná údržba",100,100,68.8,68.8]
[3613,5171,361300088,"Nebyt.-ZvŠ čp. 391 - drobná údržba",100,100,80,80]
[3613,5171,361300092,"Nebyt.-čp. 391 ZvŠ-výměna kotlů",250,250,249.07,99.628]
[3613,5171,361300093,"Nebyt.-čp. 391 ZvŠ-drobná údržba ŠJ",100,250,216.7,86.679999999999993]
[3613,5171,361300097,"Nebyt.čp.885-výměna dveří do dvora",200,200,72.540000000000006,36.270000000000003]
[3613,5171,361300098,"Nebyt.čp.885-oprava stříšky",50,46.8,31.8,67.948717948717956]
[3613,5171,361300099,"Nebyt.-čp.885-ordinace MUDr.Cihlářová",200,103.2,103.2,100]
[3613,5171,361300101,"Nebyt.-čp.885-ordinace MUDr.Rytířová",300,300,90.33,30.11]
[3613,5171,361300113,"Nebyt.-čp. 422-RZS drobná údržba",100,100,95.54,95.54]
[3613,5171,361300116,"Nebyt.-čp.1353-Komenského drobná údržba",100,100,9,9]
[3613,5171,361300117,"Nebyt.čp.730-Školní drobná údržba",100,100,13.3,13.3]
[3613,5171,361300119,"Nebyt.čp. 1607-Máchova drobná údržba",100,100,3.06,3.06]
[3613,5171,361300120,"Nebyt.čp.245 J.Zábrany-drobná údržba",50,50,0,0]
[3613,5171,361304424,"Nebytové  - veřejné WC-opravy",35,50,45,90]
[3631,5137,363100010,"Veřejné osvětlení- vánoční výzdoba",370,367,343.3,93.542234332425068]
[3631,5154,363100001,"Veřejné osvětlení - elektrická energie",2400,2200,1959.6,89.072727272727263]
[3631,5164,363100010,"Veřejné osvětelní- vánoční výzdoba-koule",98,98,97.83,99.826530612244895]
[3631,5169,363100002,"Veřejné osvětelní- provoz,služby",800,1070,1069.0999999999999,99.915887850467271]
[3631,5169,363100010,"Veřejné osvětlení - vánoční výzdoba",150,177,176.7,99.830508474576263]
[3631,5171,363100003,"VO-údržba fontány a pítka  Školní",80,80,45.6,57.000000000000007]
[3631,5171,363100004,"Veřejné osvětlení - běžné opravy, údržba",400,356,240.5,67.556179775280896]
[3632,5139,363200009,"Pohřebnictví-koše na odpad",17,17,0,0]
[3632,5151,363200005,"Pohřebnictví-hřbitov, urnový háj -voda",46,46,33.130000000000003,72.021739130434796]
[3632,5154,363200005,"Hřbitov, urnový háj el. energie",30,30,22.9,76.333333333333329]
[3632,5169,363200001,"Hřbitov -  údržba",400,426,425.8,99.953051643192495]
[3632,5169,363200002,"Urnový háj - služby",250,260,251.7,96.807692307692307]
[3632,5169,363200003,"Hřbitov,UH - údržba stromů, výsadby",350,294,131.19999999999999,44.625850340136054]
[3632,5171,363200006,"Hřbitov-oprava hřbitovní zdi",200,0,0,0]
[3632,5171,363200012,"Hřbitov-opravy pomníků",5,5,0,0]
[3632,5171,363200014,"Hřbitov, UH- opravy",10,10,0,0]
[3632,5811,363200011,"Pohřebnictví-náklady za cizí zesnulé",150,170,155.30000000000001,{"$f":"G261/F261*100","v":91.352941176470594}]
[3635,5169,363500003,"Územní plán-studie krajiny v rámci ORP",150,550,547.20000000000005,99.490909090909099]
[3635,5169,363500005,"Územní plán-změny",200,200,191,95.5]
[3635,5169,363500008,"Územní plán-seminář a prezentace k ÚS",530,48.7,0,0]
[3635,5169,363500009,"Územní studie veř.prostr.Horní",800,605,605,100]
[3635,5169,363500010,"Územní plán-Komise pro archit.a urbanismus",100,180,127,70.555555555555557]
[3635,5169,363500011,"Územní plán-Výzva 80",200,200,96.8,48.4]
[3635,5169,363500012,"Územní studie veř.prostr.Horní",0,195,185,94.871794871794862]
[3639,5011,363900006,"Komunální služby-Vize pro Humpolec(platy)",200,288.72000000000003,288.72000000000003,100]
[3639,5031,363900006,"Komunální služby-Vize pro Humpolec(SZ)",70,72.2,72.180000000000007,99.97229916897507]
[3639,5032,363900006,"Komunální služby-Vize pro Humpolec(ZS)",30,25.99,25.99,100]
[3639,5122,363900007,"Komunální služby-Věcná břemena",0,4,3.59,89.75]
[3639,5137,363900006,"Komunální služby-Vize pro Humpolec(DDHM)",0,75.400000000000006,75.42,100.02652519893897]
[3639,5137,363900018,"Komunální služby-vývěska Rozkoš",20,22.1,22.1,100]
[3639,5139,363900006,"Komunální služby-Vize pro Humpolec -materiál",0,9.1,9.09,99.890109890109898]
[3639,5164,363900001,"Komunální služby-nájmy za užívané pozemky",40,40,7.6,19]
[3639,5164,363900006,"Komunální služby-Vize pro Humpolec(nájmy)",0,21,21,100]
[3639,5168,363900005,"Aktualizace a správa map DTTM",460,460,455.4,99]
[3639,5168,363900009,"DTTM pasporty ZÚ-město",80,80,0,0]
[3639,5168,363900010,"Aktualizace dat ÚAP a rozbory",350,350,14.24,4.0685714285714285]
[3639,5168,363900019,"DTTM pasporty ZÚ místní části-údržba",400,100,90.7,90.7]
[3639,5169,363900002,"Komunální služby - geoded.práce,znal.posudky",300,242.4,62,25.577557755775576]
[3639,5169,363900006,"Komunální služby-Vize pro Humpolec(služby)",300,662.4,662.38,99.996980676328505]
[3639,5175,363900006,"Komunální služby-Vize pro Humpolec(občerst.)",0,49,47.48,96.897959183673464]
[3639,5192,363900013,"Technické služby HU-úhrada ztráty sportovišť",1200,1075,1074.71,99.973023255813956]
[3639,5362,363900014,"Komunální služby-Kolky na vklady do KN",10,14,12.1,86.428571428571416]
[3699,5179,369900003,"Členský příspěvek-Společnost pro rozvoj Humpolecka",0.5,0.5,0,0]
[3699,5179,369900004,"Členský příspěvek-Svaz měst a obcí ČR",24.6,37.549999999999997,37.51,99.893475366178436]
[3699,5179,369900005,"Členský příspěvek-Sdružení obcí Vysočiny",76,76,75.8,99.73684210526315]
[3699,5179,369900006,"Členský příspěvek-Národní síť zdravých měst",21,21,20.59,98.047619047619051]
[3699,5212,369900002,"Dotace-Pojízdná prodejna potravin",25,25,25,100]
[3699,5329,369900007,"Dotace-DSO mikroregion Zálesí",75.849999999999994,75.849999999999994,75.849999999999994,100]
[36,null,null,"Bydlení a územní rozvoj",{"$f":"SUM(E193:E292)","v":32328.949999999997},{"$f":"SUM(F193:F292)","v":32279.310000000005},{"$f":"SUM(G193:G292)","v":25007.269999999993},77.471513486502616]
[3722,5139,372200001,"Sběr a svoz PDO-nákup košů a kontejnerů,materiál",450,150,6.25,4.1666666666666661]
[3722,5169,372200002,"Sběr a svoz PDO- svoz odpadů (popelnice)-SOMPO",7100,6900,6740.45,97.687681159420293]
[3722,5169,372200003,"Sběr a svoz PDO -  sběr odpadů",2300,2300,2295.6999999999998,99.813043478260866]
[3722,5169,372200004,"Sběr a svoz PDO -  svoz košů",850,1050,992.1,94.48571428571428]
[3722,5169,372200005,"Provoz uzavřené skládky odpadů",70,70,70,100]
[3722,5169,372200007,"Odvoz a drcení sutě",100,100,86.3,86.3]
[3722,5179,372200008,"DSO SOMPO-členský příspěvek",120,0,0,0]
[3722,5329,372200008,"DSO SOMPO-členský příspěvek",0,108.35,108.35,100]
[3725,5154,372500003,"Kompostárna-elektrická energie",130,130,39.9,30.69230769230769]
[3725,5163,372500004,"Kompostárna-pojištění strojů",25,25,13.3,53.2]
[3725,5169,372500005,"Kompostárna-provoz",3000,3000,2809.3,93.643333333333331]
[3725,5171,372500001,"Kompostárna-opravy strojní, stání kontejneru",100,100,13.1,13.100000000000001]
[3733,5169,373300001,"Monitoring kval.vody a půdy",20,20,4.0999999999999996,20.5]
[3744,5169,374400001,"Srážkoměrná stanice-údržba",60,60,11.3,18.833333333333336]
[3745,5137,374500065,"Vzhled obce-květináče",100,130,128.1,98.538461538461533]
[3745,5166,374500004,"Projekty na výsadbu zeleně",60,60,18.899999999999999,31.5]
[3745,5169,374500005,"Veřejná zeleň (údržba)",4200,4436,3949.7,89.037421100090171]
[3745,5169,374500006,"veřejná zeleň (lesopark)",200,200,156.5,78.25]
[3745,5169,374500007,"veřejná zeleň (park Podhrad)",170,170,133.69999999999999,78.647058823529406]
[3745,5169,374500008,"veřejná zeleň-narození občánků",100,100,68.2,68.2]
[3745,5169,374500021,"Veřejná zeleň - úklid listí",1200,1200,978.5,81.541666666666671]
[3745,5169,374500023,"veřejná zeleň- urnový háj",60,60,52.23,87.05]
[3745,5169,374500024,"veřejná zeleň-výsadby Čejovská",300,110,102.31,93.009090909090901]
[3745,5169,374500025,"Veřejná zeleň-výsadby Petrovic",150,150,148,98.666666666666671]
[3745,5169,374500026,"Veřejná zeleň - sečení",3800,3800,3583.1,94.292105263157893]
[3745,5169,374500027,"Veřejná zeleň-výsadby Okružní u Penny",200,200,188.4,94.2]
[3745,5169,374500028,"Veřejná zeleň-výsadby u DZS",50,0,0,0]
[3745,5169,374500029,"Veřejná zeleň-výsadby u FS",100,86.7,67.400000000000006,77.739331026528262]
[3745,5169,374500030,"Veřejná zeleň - údržba v  MČ",50,50,48.8,97.6]
[3745,5169,374500031,"Veřejná zeleň-výsadby Rozkoš",50,50,41.57,83.14]
[3745,5169,374500032,"Veřejná zeleň-Horní náměstí",100,100,99.9,99.9]
[3745,5169,374500033,"Veřejná zeleň- park LTRN",150,150,128,{"$f":"G325/F325*100","v":85.333333333333343}]
[3745,5169,374500035,"Veřejná zeleň-ošetření vzrostlých stromů",300,200,139.9,69.95]
[3745,5169,374500036,"Veřejná zeleň-ošetření stromů Stromovka-SFŽP",200,200,134.4,67.2]
[3745,5169,374500044,"Park Stromovka-slav.otevření",100,100,78.37,78.37]
[3745,5169,374500080,"Protihlukový val Stodůlky",0,13.3,13.3,100]
[3745,5169,374500084,"Park Stromovka-údržba zeleně",0,160,79,49.375]
[3745,5171,374500005,"Veřejná zeleň - opravy",0,34,33.9,99.705882352941174]
[3745,5171,374500040,"Lavičky-opravy a doplnění",150,150,140.69999999999999,93.8]
[3749,5169,374900001,"Ochrana přírody - Posudky na ochranu ŽP",100,200,158.5,79.25]
[3749,5169,374900002,"Ochrana přírody - Označení památných stromů",80,130.30000000000001,61.3,47.04528012279355]
[3749,5169,374900003,"Ochrana přírody - Ochrana jírovců",60,60,37.799999999999997,63]
[3749,5169,374900004,"Ochrana přírody - Likvidace černých skládek",40,40,2.8,6.9999999999999991]
[3749,5169,374900006,"Ochrana přírody - Naučná stezka Březina (údržba)",50,27,1.5,5.5555555555555554]
[3749,5171,374900006,"Ochrana přírody - Naučná stezka Březina (opravy)",0,23,22.5,97.826086956521735]
[3749,5222,374900005,"Dotace-Zelené srdce",10.5,10.5,10.5,100]
[37,null,null,"Ochrana životního prostředí",26455.5,{"$f":"SUM(F294:F339)","v":26414.149999999998},{"$f":"SUM(G294:G339)","v":23997.930000000004},90.852554407391523]
[3900,5021,3900,"Místní agenda 21",5,0,0,0]
[3900,5139,3900,"Místní agenda 21",8,33.08,33.08,100]
[3900,5139,390000003,"Oslavy 30 let svobody",0,30,25.41,84.7]
[3900,5164,3900,"Místní agenda 21",0,7,7,100]
[3900,5169,3900,"Místní agenda 21",12,18.579999999999998,18.579999999999998,100]
[3900,5169,390000003,"Oslavy 30 let svobody",200,170,166.4,97.882352941176478]
[3900,5175,3900,"Místní agenda 21",5,1.34,1.3,97.014925373134332]
[3900,5194,3900,"Místní agenda 21",30,0,0,0]
[39,null,null,"Ost čin.souvis.se služ.pro ob.",260,{"$f":"SUM(F341:F348)","v":259.99999999999994},251.77,96.834615384615404]
[4329,5339,432900001,"Dotace-Dětský domov (sport)",7,7,7,100]
[4341,5169,434100001,"Sociální služby-azylové ubyt.",10,10,0,0]
[4341,5169,434100002,"Sociální služby-soc.práv.ochr.",5,5,0,0]
[4350,5223,435000001,"Dotace-Domov bl.Bronislavy",300,300,300,100]
[4351,5223,435100001,"Dotace-Oblastní charita HB",2000,2000,2000,100]
[4351,5223,435100002,"Dotace-Oblastní charita JI",30,30,30,100]
[4351,5223,435100003,"Dotace-Oblastní charita PE",50,50,50,100]
[4376,5222,437600001,"Dotace-Fokus H.Brod",50,50,50,100]
[4379,5221,437900001,"Dotace-Háta o.p.s.",20,20,20,100]
[4379,5221,437900002,"Dotace-Senior Care o.p.s.",65,65,65,100]
[4379,5222,437900003,"Dotace-Potravinová banka o.s.",10,10,10,100]
[4379,5222,437900004,"Dotace-Kruhcentrum o.s.",10,10,10,100]
[4379,5222,437900005,"Dotace-Svaz tělesně postiž.",20,20,20,100]
[4379,5222,437900006,"Dotace-Medou z.s.",400,400,400,100]
[4379,5222,437900007,"Dotace-Centrum zdr.postiž.",2.5,2.5,2.5,100]
[43,null,null,"Sociální péče",2979.5,{"$f":"SUM(F350:F364)","v":2979.5},{"$f":"SUM(G350:G364)","v":2964.5},99.49655982547408]
[5272,5139,"----------","Civilní připravenost-nákup materiálu j.n.",0,2,1.64,82]
[5272,5901,527200001,"Civilní připravenost-rezerva na řešení krizí",100,91,0,0]
[5273,5132,"----------","Civilní připravenost-ochranné pomůcky",5,5,0,0]
[5273,5137,"----------","Civilní připravenost-drobný DHM",30,30,0,0]
[5273,5162,"----------","Civilní připravenost-služby elektronic. komunikací",35,35,0,0]
[5273,5169,"----------","Civilní připravenost-nákup ostatních služeb",0,2,1.98,{"$f":"G371/F371*100","v":99}]
[5273,5171,"----------","Civilní připravenost-opravy a udržování",100,100,{"$f":"55.5","v":55.5},55.500000000000007]
[5274,5139,"----------","Civilní připravenost-nákup materiálu j.n.",0,5,4.51,90.199999999999989]
[52,null,null,"Civilní příprava-krizové stavy",270,{"$f":"SUM(F366:F373)","v":270},{"$f":"SUM(G366:G373)","v":63.629999999999995},23.566666666666666]
[5311,5137,"----------","Kamerový systém-drobný DHM",80,80,0,0]
[5311,5154,"----------","Kamerový systém-elektrická energie",70,70,43.2,61.714285714285722]
[5311,5164,"----------","Kamerový systém-nájemné",50,50,25.1,50.2]
[5311,5169,"----------","Kamerový systém-nákup ostatních služeb",150,150,113,75.333333333333329]
[5311,5171,"----------","Kamerový systém-opravy a udržování",200,120.7,99,82.021541010770505]
[53,null,null,"Bezpečnost a veřejný pořádek",550,{"$f":"SUM(F375:F379)","v":470.7},280.3,59.549606968345024]
[5512,5019,"----------","SDH-ostatní platy",30,30,11.24,37.466666666666661]
[5512,5039,"----------","SDH-ostatní pojistné placené",7,7,0.73,10.428571428571429]
[5512,5132,"----------","SDH-ochranné pomůcky",45,62.1,54.99,88.550724637681157]
[5512,5132,551201,"SDH-OÚE Akceschopnost JPO",0,33.22,33.22,100]
[5512,5134,"----------","SDH-prádlo, oděv a obuv",45,52.9,52.9,100]
[5512,5136,"----------","SDH-knihy, učební pomůcky a tisk",1,1,0.7,70]
[5512,5137,"----------","SDH-drobný DHM",150,204.4,204.3,99.951076320939336]
[5512,5139,"----------","SDH-nákup materiálu j.n.",120,124.6,124.6,100]
[5512,5151,"----------","SDH-studená voda",68,68,36.1,53.088235294117645]
[5512,5153,"----------","SDH-plyn",370,370,183.4,49.567567567567565]
[5512,5154,"----------","SDH-elektrická energie",145,145,70.5,48.620689655172413]
[5512,5156,"----------","SDH-pohonné hmoty a maziva",110,127.6,99.6,78.056426332288396]
[5512,5161,"----------","SDH poštovní služby",1.5,4,3.7,92.5]
[5512,5162,"----------","SDH-služby elektronic. komunikací",1.5,1.5,1.3,86.666666666666671]
[5512,5163,"----------","SDH-služby peněžních ústavů-pojištění",10,10,1.52,15.2]
[5512,5167,"----------","SDH-služby školení a vzdělávání",40,40,16.899999999999999,42.25]
[5512,5168,"----------","SDH-služby zpracování dat",1,2.5,2.0299999999999998,81.199999999999989]
[5512,5169,"----------","SDH-nákup ostatních služeb",40,65.8,65.599999999999994,99.696048632218833]
[5512,5171,"----------","Opravy a udržování",120,50.2,27.77,55.318725099601586]
[5512,5171,383,"SDH Hněvkovice",0,1,0.52,52]
[5512,5173,"----------","SDH-cestovné",3,3,0,0]
[5512,5175,"----------","SDH-pohoštění",10,10,1.98,19.8]
[5512,5222,551200001,"Dotace-SDH Humpolec",434.26,434.26,434.26,100]
[5512,5222,551200002,"Dotace-SDH Kletečná",23.27,23.27,23.27,100]
[5512,5222,551200003,"Dotace-SDH Hněvkovice",20,20,20,100]
[5512,5222,551200004,"Dotace-SDH Hněvkovice",15,15,15,100]
[5512,5222,551200005,"Dotace-SDH Světlice",70,70,70,100]
[5512,5222,551200007,"Dotace-SDH Petrovice (nájem)",14.18,14.18,14.18,100]
[5512,5901,null,"Rezerva oddílu požární ochrana",0,58.4,0,0]
[55,null,null,"Požární ochrana a IZS",1894.71,{"$f":"SUM(F381:F409)","v":2048.9299999999998},{"$f":"SUM(G381:G409)","v":1570.3100000000002},76.640490402307563]
[6112,5019,"----------","Zastupitelstvo města-refundace mzdy",10,10,0,0]
[6112,5023,"----------","Zastupitelstvo města-odměny členů ",3518,3518,3229.2,91.790790221716875]
[6112,5031,"----------","Zastupitelstvo města-sociální zabezpečení",595,595,565.1,94.974789915966397]
[6112,5032,"----------","Zastupitelstvo města-zdravotní pojištění",318,318,290.2,91.257861635220124]
[6112,5179,"----------","Zastupitelstvo města-ostatní nákupy j.n.",15,15,4.5,30]
[6117,5021,"----------","Volby do EP-ostatní osobní výdaje",0,269.86,269.86,100]
[6117,5139,"----------","Volby do EP-nákup materiálu j.n.",0,19.2,19.2,100]
[6117,5164,"----------","Volby do EP-nájemné",0,20.630000000000003,20.63,99.999999999999972]
[6117,5169,"----------","Volby do EP-nákup ostatních služeb",0,22.73,22.73,100]
[6117,5173,"----------","Volby do EP-cestovné",0,2.82,2.82,100]
[6149,5021,"----------","SDČL 2021-ost.osobní výdaje (dotace)",0,41.6,41.5,99.759615384615387]
[6171,5011,"----------","Správa MěÚ-platy zaměstnanců",25345,25345.1,24126,95.189997277580289]
[6171,5021,"----------","Správa MěÚ-ostatní osobní výdaje",862,862,620.6,71.995359628770302]
[6171,5031,"----------","Správa MěÚ-sociální zabezpečení",6337,6954,6134,88.208225481737131]
[6171,5032,"----------","Správa MěÚ-zdravotní pojištění",2281,2511,2224.6,88.594185583432889]
[6171,5038,"----------","Správa MěÚ-pojistné na úrazové pojištění",85,104,103.44,99.461538461538453]
[6171,5041,"----------","Správa MěÚ-odměny za užití duševního vl.",4,4,0,0]
[6171,5042,"----------","Správa MěÚ-odměny za užití počít.program",1380,1430,1426.3,99.741258741258747]
[6171,5132,"----------","Správa MěÚ-ochranné pomůcky",25,25,0,0]
[6171,5134,"----------","Správa MěÚ-prádlo, oděv a obuv",30,30,6.17,20.566666666666666]
[6171,5136,"----------","Správa MěÚ-knihy, učební pomůcky a tisk",60,74,73.599999999999994,99.459459459459453]
[6171,5137,"----------","Správa MěÚ-drobný DHM",450,390,379.6,97.333333333333343]
[6171,5137,"----------","Osadní výbory-drobný DHM",150,150,137.80000000000001,91.866666666666674]
[6171,5139,"----------","Správa MěÚ-nákup materiálu ",550,{"$f":"746-41","v":705},704.3,99.900709219858157]
[6171,5139,null,"Osadní výbory-nákup materiálu",0,41,40.700000000000003,{"$f":"G435/F435*100","v":99.268292682926841}]
[6171,5151,"----------","Správa MěÚ-studená voda",90,90,82.3,91.444444444444443]
[6171,5151,null,"Osadní výbory-studená voda",20,20,16,80]
[6171,5152,"----------","Správa MěÚ-teplo",50,50,22.1,44.2]
[6171,5153,"----------","Správa MěÚ-plyn",430,430,334,77.674418604651166]
[6171,5154,"----------","Správa MěÚ-elektrická energie",{"$f":"920-250","v":670},670,639,95.373134328358205]
[6171,5154,"----------","Osadní výbory-elektrická energie",250,250,226.1,90.44]
[6171,5155,"----------","Osadní výbory-pevná paliva",15,8,0,0]
[6171,5156,"----------","Správa MěÚ-pohonné hmoty a maziva",90,97,96.3,99.278350515463927]
[6171,5161,"----------","Správa MěÚ-poštovní služby",3500,586,442.9,75.580204778156997]
[6171,5162,"----------","Správa MěÚ-služby telekomunikací",300,301.5,301.10000000000002,99.86733001658375]
[6171,5163,"----------","Správa MěÚ-služby peněžních ústavů",100,100,62,62]
[6171,5164,"----------","Správa MěÚ-nájemné",170,170,158.19999999999999,93.058823529411754]
[6171,5166,"----------","Správa MěÚ-konzultační, poraden.služby",300,301.5,301.2,99.900497512437809]
[6171,5167,"----------","Správa MěÚ-služby školení a vzdělávání",350,523.4,523,99.923576614444016]
[6171,5168,"----------","Správa MěÚ-služby zpracování dat",969,936.7,750.4,80.111028077292616]
[6171,5169,"----------","Správa MěÚ-nákup ostatních služeb",3400,3643,3592.7,98.619269832555574]
[6171,5171,"----------","Správa MěÚ-opravy a udržování",370,286,250.7,87.657342657342653]
[6171,5171,"----------","Osadní výbory-opravy a udržování",60,19,18.5,97.368421052631575]
[6171,5172,"----------","Správa MěÚ-programové vybavení",200,200,99.7,49.85]
[6171,5173,"----------","Správa MěÚ-cestovné",70,70,67.400000000000006,96.285714285714292]
[6171,5175,"----------","Správa MěÚ-pohoštění",100,100,82.2,82.2]
[6171,5175,"----------","Osadní výbory -pohoštění",180,180,105.8,58.777777777777771]
[6171,5178,"----------","Správa MěÚ-nájemné s právem koupě - leasing",15,46,39.200000000000003,85.217391304347828]
[6171,5179,"----------","Správa MěÚ-ostatní nákupy j.n.",100,100,85.5,85.5]
[6171,5192,"----------","Správa MěÚ-poskytnuté náhrady- ost.neinv.výdaje",50,84,84,100]
[6171,5194,"----------","Správa MěÚ-věcné dary",100,100,97.4,97.4]
[6171,5195,"----------","Správa MěÚ-odvody-za zdravotně postižené",20,20,0,0]
[6171,5229,"----------","Správa MěÚ-ost. neinv.transfery -neziskovým organiz.",2,2,0,0]
[6171,5362,"----------","Správa MěÚ-platby daní a poplatků SR",25,25,7.25,28.999999999999996]
[6171,5363,"----------","Správa MěÚ-úhrady sankcí jiným rozpočtům",0,11,11,100]
[6171,5424,"----------","Správa MěÚ-náhrady mezd v době nemoci",120,136,135.69999999999999,99.77941176470587]
[6171,5429,"----------","Správa MěÚ-transfery obyvatelstvu - náhrady",10,10,0,0]
[6171,5499,"----------","Správa MěÚ-ostatní transfery obyvatelstvu",1150,1134,1095,96.560846560846556]
[6171,5660,"----------","Správa MěÚ-půjčky - obyvatelstvu ze soc.fondu",40,40,0,0]
[61,null,null,"Státní moc, státní správa",55331,{"$f":"SUM(F411:F469)","v":54198.04},{"$f":"SUM(G411:G469)","v":50169.499999999985},92.567000577880648]
[6310,5141,"----------","Úroky vlastní",345,495,477.7,96.505050505050505]
[6310,5163,"----------","Služby peněžních ústavů",490,340,193.3,56.852941176470594]
[6320,5163,"----------","Služby peněžních ústavů",1300,1300,1055.47,81.190000000000012]
[6399,5362,"----------","Platby daní a poplatků SR",3500,3500,-6571.2,-187.74857142857141]
[6399,5365,"----------","Platby daní krajům, obcím (DPPO obec)",13600,13600,13596.59,99.97492647058823]
[6399,5901,"----------","Nespecifikované rezervy",8.33,0,0,0]
[63,null,null,"Finanční operace",19243.330000000002,{"$f":"SUM(F471:F476)","v":19235},{"$f":"SUM(G471:G476)","v":8751.86},45.499662074343647]
[6402,5366,"----------","Finanční vypořádání-kraj,obec",0,268.39999999999998,268.43,100.01117734724293]
[6409,5909,"----------","Ostatní neinvestiční výdaje",0,0,-2,0]
[64,null,null,"Ostatní činnosti",0,{"$f":"SUM(F478:F479)","v":268.39999999999998},{"$f":"SUM(G478:G479)","v":266.43},99.266020864381531]
[null,null,null,"CELKEM BĚŽNÉ VÝDAJE",246670.15,{"$f":"SUM(F480,F477,F470,F410,F380,F374,F365,F349,F340,F293,F192,F130,F84,F80,F69,F39,F15,F11)","v":249310.4},{"$f":"SUM(G480,G477,G470,G410,G380,G374,G365,G349,G340,G293,G192,G130,G84,G80,G69,G39,G15,G11)","v":219113.5},87.887829789691878]

{"sheet":"Rozpis KV 2019","index":2,"n_rows":137,"n_cols":8,"rows_kept":137,"cut":false,"hidden":false,"merged":[[0,0,0,7]]}
["KAPITÁLOVÉ VÝDAJE (v tis. Kč) - rozpis plnění rozpočtu k 31. 12. 2019"]
[]
["ODPA","POL","ORG","Popis","Rozpočet 2019","Kapitálové výdaje po změně 2019","Skutečnost 31.12.2019","% Plnění SK/UR"]
[2212,6121,221200006,"Dopravní značení-zrcadla",90,48,0,{"$f":"G4/F4*100","v":0}]
[2212,6121,221200007,"Projekty komunikací",150,150,86,{"$f":"G5/F5*100","v":57.333333333333336}]
[2212,6121,221200064,"Doprav znač.-zrcadla Plačkov",60,0,0,0]
[2212,6121,221200092,"Rekonstrukce MK Pelhřimovská",80,80,24.2,30.25]
[2212,6121,221200098,"Rekonstrukce MK Masarykova -PD",200,200,90.75,45.375]
[2212,6121,221200099,"Rekonstrukce MK Nádražní",110,110,93,84.545454545454547]
[2212,6121,221200101,"Rekonstrukce křiž VODAK-PD",12400,10150,10104.5,99.551724137931032]
[2212,6121,221200102,"Rekonstrukce MK Vilémov",90,90,72.2,80.222222222222229]
[2212,6121,221200104,"Rekonstrukce MK Školní",3700,2900,2898.7,99.955172413793093]
[2212,6121,221200105,"Rekonstrukce MK Jiřická-U Kaštanu",80,20,0,0]
[2212,6121,221200106,"Komunikace park Stromovka",520,520,517.22,99.465384615384622]
[2212,6121,221200107,"Rekonstrukce MK Blanická",4800,3650,3637.2,99.649315068493152]
[2212,6121,221200108,"Rekonstrukce MK Hněvkovice",50,80,18.2,22.749999999999996]
[2212,6121,221200109,"Rekonstrukce MK Kletečná",50,80,75,93.75]
[2212,6121,221200110,"Rekonstrukce MK Máchova-Fügner.",300,50,42.4,84.8]
[2212,6121,221200111,"Rekonstrukce MK 5.květ.-Hradská",150,90,54.5,60.55555555555555]
[2212,6121,221200112,"Rekonstrukce MK U Stadionu",300,300,49.61,16.536666666666665]
[2212,6121,221200113,"Rekonstrukce MK 5.květ.-Jihlav.",80,80,78.7,98.375]
[2212,6121,221200114,"Rekonstr.křiž. Okružní-Pelhřim.",90,0,0,0]
[2212,6121,221200115,"Rekonstrukce MK Jihlavská",200,200,124.63,62.314999999999998]
[2212,6121,221200116,"Rekonstrukce MK 5.května",200,200,117.4,58.70000000000001]
[2212,6121,221200117,"Zpomalovací prahy Hněvkovice",100,100,54,54]
[2212,6121,221200118,"Rekonstrukce MK-místní části",0,209,209,100]
[2212,6121,221200119,"MK J. Hrušky - stavební úpravy",0,190,186.3,98.05263157894737]
[2219,6121,221900001,"Studie a projekty chodníků",150,150,84.3,56.199999999999996]
[2219,6121,221900013,"Chodník Lipnická,Vyhlídka-PD",210,210,203.7,97]
[2219,6121,221900014,"Chodník E.Dítě-PD",250,310,303.10000000000002,97.774193548387103]
[2219,6121,221900015,"Chodník Světlice-PD",70,70,46,65.714285714285708]
[2219,6121,221900016,"Chodník Petrovice-PD",80,80,70.87,88.587500000000006]
[2219,6121,221900021,"Chodník Lužická",80,80,49,61.250000000000007]
[2219,6121,221900022,"Chodník Pelhřimovská",80,80,14.5,18.125]
[2219,6121,221900043,"Chodník Hněvkovice",40,40,0,0]
[2219,6121,221900044,"Chodník Okružní-PD",0,60,58.1,96.833333333333343]
[2219,6121,221900053,"Chodník Krasoňov-dokončení",600,450,450,100]
[2219,6121,221900057,"Parkovací stání 5.května",80,80,78.650000000000006,98.3125]
[2219,6121,221900063,"Přechod pro chodce Rozkoš",1300,0,0,0]
[2219,6121,221900069,"Zpevněná plocha Rozkoš",130,80,80,100]
[22,null,null,"Doprava",26870,{"$f":"SUM(F4:F40)","v":21187},{"$f":"SUM(G4:G40)","v":19971.730000000003},94.264077028366472]
[2310,6121,231000028,"Vodovod křižovatka Pražská",5050,4677,4677,100]
[2310,6121,231000029,"Vodovod Sluníčkova",130,130,130,100]
[2310,6121,231000035,"Vodovodní řad Plačkov-výkup od Herálce",95,95,0,0]
[2310,6121,231000036,"Vodovodní řad Krasoňov",70,70,0,0]
[2310,6121,231000037,"Vodovodní řad Jiřická",235.1,235.1,0,0]
[2310,6121,231000038,"Vodovodní řad U Kaštanu",208.4,208.4,0,0]
[2310,6121,231000039,"Vodovodní řad Hněvkovice",39.799999999999997,39.799999999999997,39.799999999999997,100]
[2321,6121,232100020,"Kanalizace Sluníčkova-PD",132,132,132,100]
[2321,6121,232100023,"Areační systém na ČOV",450,450,450,100]
[2321,6121,232100028,"Kanalizace kruh.křiž.Pražská",22600,38131,38103.9,99.92892921769689]
[2321,6121,232100029,"Kanalizace Krasoňov",70,0,0,0]
[2321,6121,232100030,"Dešťová kanalizace E.Dítě",590,363,294.29000000000002,81.071625344352626]
[2321,6121,232100031,"Kanalizace Hněvkovice",78.8,78.8,78.8,100]
[2321,6121,232100032,"Kanalizace Jihlavská",89.5,146.5,146.5,100]
[23,null,null,"Vodní hospodářství",29838.6,{"$f":"SUM(F42:F55)","v":44756.600000000006},{"$f":"SUM(G42:G55)","v":44052.290000000008},98.426354995687788]
[3111,6351,null,"Investiční příspěvek MŠ",609,609,597.1,98.045977011494259]
[3113,6351,321,"Investiční příspěvek ZŠ Hálkova",10840,10909.8,10820.9,99.185136299473868]
[3113,6351,322,"Investiční příspěvek ZŠ Hradská",850,250,218.06,87.224000000000004]
[31,null,null,"Vzdělávání",12299,{"$f":"SUM(F57:F59)","v":11768.8},{"$f":"SUM(G57:G59)","v":11636.06},98.872102508327103]
[3231,6351,null,"Investiční příspěvek ZUŠ",0,296,296,100]
[3231,6356,3231001,"Dotace z Fondu Vysočiny ZUŠ",null,29.9,29.9,100]
[3233,6351,null,"Investiční příspěvek SVČ",4000,6926,6736.4,97.262489171238812]
[32,null,null,"Vzdělávání",4000,{"$f":"SUM(F61:F63)","v":7251.9},7062.2999999999993,97.385512762172667]
[3319,6121,331900010,"Polyfunkční komunitní centrum",20000,7000,6593.9,94.198571428571427]
[3319,6351,null,"Investiční příspěvek MěKIS",1300,1114.3,1114.3,100]
[3319,6356,null,"Jiné inv.transfery MěKIS- Antropol.expozice",0,200,200,100]
[3322,6121,332200009,"Budova čp. 250 Dolní nám.",450,450,0,0]
[3322,6121,332200022,"Hrad Orlík - zastropení sklepení",600,750,469.2,{"$f":"G69/F69*100","v":62.559999999999995}]
[3322,6121,332200024,"Budova čp. 253 Dolní náměstí",150,50,41.8,83.6]
[3326,6121,332600019,"Pomník ak.mal.M.Zacha",100,100,100,100]
[3326,6122,332600008,"Nasvícení kostela Sv. Mikuláše",50,50,50,100]
[33,null,null,"Kultura, církve",22650,{"$f":"SUM(F65:F72)","v":9714.2999999999993},{"$f":"SUM(G65:G72)","v":8569.1999999999989},88.212223217318794]
[3412,6121,341200007,"Rekonstr.hřiště Plačkov",0,21,20.5,97.61904761904762]
[3412,6121,341200070,"Hřiště Rozkoš",600,851.1,809.9,95.159205733756309]
[3412,6121,341200071,"Hřiště Hněvkovice",220,199,196.3,98.643216080402013]
[3412,6121,341200072,"Hřiště Plačkov",0,53.1,53.1,100]
[3412,6121,341200073,"WC fotbal.hřiště",0,400,400,100]
[3412,6121,341200078,"Koupaliště-ruské kuželky",25,17.899999999999999,17.89,99.944134078212301]
[3412,6121,341200079,"DiscGolf park",400,322.60000000000002,322.62,100.0061996280223]
[3412,6121,341200080,"Hala Hradská-rekonstrukce",80,145,136.5,94.137931034482762]
[3412,6121,341200082,"Sportoviště Okružní-projekt",130,115,115,100]
[3412,6121,341200083,"Zlatá podkova-sociál.zařízení",2000,1975.5,1975.45,99.997468995191099]
[3412,6121,341200084,"Zimní stadion-projekt",360,349.8,349.84,100.01143510577472]
[3412,6121,341200085,"Městská hřiště - herní prvky ",0,216.9,216.6,99.86168741355462]
[3412,6121,341200086,"Sportovní areál Okružní",null,75.5,75.5,100]
[34,null,null,"Sport a zájmová činnost",3815,{"$f":"SUM(F74:F86)","v":4742.3999999999996},{"$f":"SUM(G74:G86)","v":4689.2000000000007},98.878205128205153]
[3612,6121,19,"Fügnerova-SINPRO",400,400,145.9,36.475000000000001]
[3612,6121,73,"Masarykova - SINPRO",400,400,18.3,4.5750000000000002]
[3612,6121,74,"Masarykova - SINPRO",735,735,0,0]
[3612,6121,245,"Jana Zábrany-SINPRO",0,280,279.14,99.692857142857136]
[3612,6121,926,"Hálkova-SINPRO",400,311,272.32,87.562700964630224]
[3612,6121,927,"Hálkova-SINPRO",400,0,0,0]
[3612,6121,1027,"Hálkova-SINPRO",0,264,263.54000000000002,99.825757575757578]
[3612,6121,1039,"Hálkova-SINPRO",400,0,0,0]
[3612,6121,1313,"Na Rybníčku-SINPRO",700,700,457.5,65.357142857142861]
[3612,6121,1326,"Na Rybníčku-SINPRO",400,400,0,0]
[3612,6121,1353,"Komenského - SINPRO",0,345,344.6,99.884057971014499]
[3612,6121,361200004,"Regenerace sídliště Lužická",500,260,188,72.307692307692307]
[3612,6121,361200006,"Bytový dům s MŠ (projekt)",700,700,0,0]
[3613,6121,361300073,"Nebyt.-čp.803 LTRN - oprava střechy",2250,2130,2121.92,99.620657276995303]
[3613,6121,361300107,"Nebyt.-čp.422-úpravy vrat",1000,0,0,0]
[3613,6121,361300129,"Nebyt.-kolna nářadí Plačkov",150,150,150,100]
[3613,6121,361300130,"Nebyt.-budova OV Lhotka",200,200,199.65,99.825000000000003]
[3613,6121,361300131,"Nebyt.-budova SDH Světlice",85,85,83.85,98.647058823529406]
[3613,6122,361300132,"Nebyt.-Hodiny na budově MěKIS",55,55,45.97,83.581818181818178]
[3613,6121,361300133,"Nebyt.polikl.čp.885-vysoušeče",0,40.1,40.1,100]
[3631,6121,363100012,"VO - projekt k novým VO",100,100,30.3,30.3]
[3631,6121,363100044,"VO Kletečná",50,50,0,0]
[3631,6121,363100051,"VO Vilémov",15,15,0,0]
[3631,6121,363100052,"VO Horní náměstí",40,40,0,0]
[3632,6121,363200016,"Hřbitov,UH - rekonstrukce cest",1000,1000,973.3,97.33]
[3632,6121,363200018,"Hřbitov - rekonstrukce márnice",350,350,212.3,60.657142857142865]
[3639,6130,363900020,"Komunální služby-výkup nemovitostí",1815,3295,117.2,3.5569044006069808]
[36,null,null,"Bydlení a územní rozvoj",12145,{"$f":"SUM(F88:F114)","v":12305.1},{"$f":"SUM(G88:G114)","v":5943.8900000000012},48.304280339046421]
[3722,6121,372200011,"Sběr a svoz PDO-Kontejnerová stání-město",400,400,399.85,99.962500000000006]
[3722,6121,372200013,"Sběr a svoz PDO-Kontejnerová stání Plačkov",100,0,0,0]
[3745,6121,374500049,"Veřejná zeleň-vodní plocha u Dvoráku",150,20,15,75]
[3745,6121,374500062,"Péče o vzhled obce-park Zichpil",70,0,0,0]
[3745,6121,374500064,"Péče o vzhled obce-pěšina Lnářská",160,0,0,0]
[3745,6121,374500071,"Péče o vzhled obce-park Stromovka-st.úpravy",3000,5300,5203.54,98.18]
[3745,6121,374500074,"Pěšina Čejovská-Panský Vrch",150,150,149.30000000000001,99.533333333333346]
[3745,6121,374500077,"Cestní síť lesopark Orlík",500,80,60.7,75.875]
[3745,6121,374500078,"Zeď u biokontejneru Rozkoš",200,200,167.6,83.8]
[3745,6121,374500080,"Protihlukový val Stodůlky",150,20,0,0]
[3745,6121,374500083,"Péče o vzhled obce-protihl.stěna u D1",50,50,0,0]
[37,null,null,"Ochrana životního prostředí",4930,{"$f":"SUM(F116:F126)","v":6220},{"$f":"SUM(G116:G126)","v":5995.9900000000007},96.398553054662401]
[5311,6122,"----------","Kamerový systém - nové kamery",600,1029.4000000000001,669.2,65.008742957062367]
[53,null,null,"Bezpečnost a veřejný pořádek",600,{"$f":"SUM(F128)","v":1029.4000000000001},669.2,65.008742957062367]
[5512,6123,"----------","SDH Humpolec nákup vozidla",100,100,0,0]
[55,null,null,"Požární ochrana a IZS",100,{"$f":"SUM(F130)","v":100},0,0]
[6171,6111,"----------","Správa MěÚ-programové vybavení",100,313.19,0,0]
[6171,6121,"----------","Správa MěÚ metropolitní síť",600,950,876.8,{"$f":"G133/F133*100","v":92.294736842105266}]
[6171,6121,null,"Správa MěÚ-rekonstrukce budovy č.p.300",350,0,0,0]
[6171,6125,617100002,"Správa MěÚ-výpočetní technika",360,390,389.3,99.820512820512818]
[61,null,null,"Státní moc, státní správa",1410,{"$f":"SUM(F132:F135)","v":1653.19},{"$f":"SUM(G132:G135)","v":1266.0999999999999},76.585268480936847]
[null,null,null,"CELKEM KAPITÁLOVÉ VÝDAJE",{"$f":"SUM(E136,E131,E127,E115,E87,E73,E64,E60,E56,E41,E129)","v":118657.60000000001},{"$f":"SUM(F136,F131,F127,F115,F87,F73,F64,F60,F56,F41,F129)","v":120728.69},{"$f":"SUM(G136,G131,G127,G115,G87,G73,G64,G60,G56,G41,G129)","v":109855.96},90.994079369203789]

{"sheet":"Výdaje celkem dle oddílů","index":3,"n_rows":21,"n_cols":13,"rows_kept":21,"cut":false,"hidden":false,"merged":[[0,5,0,8],[0,1,0,4],[0,9,0,12]]}
["v tis.Kč","Běžné výdaje",null,null,null,"Kapitálové výdaje",null,null,null,"Celkem výdaje"]
["Oddíl","Schválený rozpočet 2019","Upravený rozpočet 2019","Skutečnost k 31.12.2019","% SK/UR 2019","Schválený rozpočet 2019","Upravený rozpočet 2019","Skutečnost k 31.12.2019","% SK/UR 2019","Schválený rozpočet 2019","Upravený rozpočet 2019","Skutečnost k 31.12.2019","% SK/UR 2019"]
["10 - Zemědělství a lesnictví",{"$f":"'Rozpis BV 2019'!E11","v":846},{"$f":"'Rozpis BV 2019'!F11","v":863.8},{"$f":"'Rozpis BV 2019'!G11","v":768.11},"x",null,null,null,"x",{"$f":"B3+F3","v":846},{"$f":"C3+G3","v":863.8},{"$f":"D3+H3","v":768.11},{"$f":"L3/K3*100","v":88.922204213938414}]
["21 - Průmysl,staveb.,obchod,služby",{"$f":"'Rozpis BV 2019'!E15","v":150},{"$f":"'Rozpis BV 2019'!F15","v":157},{"$f":"'Rozpis BV 2019'!G15","v":156.19999999999999},"x",null,null,null,"x",150,157,156.19999999999999,99.490445859872594]
["22 - Doprava",{"$f":"'Rozpis BV 2019'!E39","v":13385},{"$f":"'Rozpis BV 2019'!F39","v":14908},{"$f":"'Rozpis BV 2019'!G39","v":13418.95},{"$f":"D5/C5*100","v":90.011738663804678},{"$f":"'Rozpis KV 2019'!E41","v":26870},{"$f":"'Rozpis KV 2019'!F41","v":21187},{"$f":"'Rozpis KV 2019'!G41","v":19971.730000000003},{"$f":"H5/G5*100","v":94.264077028366472},40255,36095,33390.680000000008,92.507771159440395]
["23 - Vodní hospodářství",{"$f":"'Rozpis BV 2019'!E69","v":49103.199999999997},{"$f":"'Rozpis BV 2019'!F69","v":48684.5},{"$f":"'Rozpis BV 2019'!G69","v":47197.79},96.946235454816218,{"$f":"'Rozpis KV 2019'!E56","v":29838.6},{"$f":"'Rozpis KV 2019'!F56","v":44756.600000000006},{"$f":"'Rozpis KV 2019'!G56","v":44052.290000000008},98.426354995687788,78941.799999999988,93441.1,91250.080000000016,97.655185994171745]
["31 - Vzdělání",{"$f":"'Rozpis BV 2019'!E80","v":16580},{"$f":"'Rozpis BV 2019'!F80","v":18377.599999999999},{"$f":"'Rozpis BV 2019'!G80","v":17882.97},97.308516890127123,{"$f":"'Rozpis KV 2019'!E60","v":12299},{"$f":"'Rozpis KV 2019'!F60","v":11768.8},{"$f":"'Rozpis KV 2019'!G60","v":11636.06},98.872102508327103,28879,30146.399999999998,29519.03,97.918922325717176]
["32 -Vzdělání",{"$f":"'Rozpis BV 2019'!E84","v":2390},{"$f":"'Rozpis BV 2019'!F84","v":3556.2},{"$f":"'Rozpis BV 2019'!G84","v":3556.17},99.999156402901974,{"$f":"'Rozpis KV 2019'!E64","v":4000},{"$f":"'Rozpis KV 2019'!F64","v":7251.9},{"$f":"'Rozpis KV 2019'!G64","v":7062.2999999999993},97.385512762172667,6390,10808.099999999999,10618.47,98.245482554750609]
["33-Kultura, církve",{"$f":"'Rozpis BV 2019'!E130","v":11852.6},{"$f":"'Rozpis BV 2019'!F130","v":12029.310000000001},{"$f":"'Rozpis BV 2019'!G130","v":11283.049999999997},93.796319157125353,{"$f":"'Rozpis KV 2019'!E73","v":22650},{"$f":"'Rozpis KV 2019'!F73","v":9714.2999999999993},{"$f":"'Rozpis KV 2019'!G73","v":8569.1999999999989},88.212223217318794,34502.6,21743.61,19852.249999999996,91.301536405408285]
["34-Tělovýchova a zájmová činnost",{"$f":"'Rozpis BV 2019'!E192","v":13050.36},{"$f":"'Rozpis BV 2019'!F192","v":12309.96},{"$f":"'Rozpis BV 2019'!G192","v":11526.759999999998},93.637672258886298,{"$f":"'Rozpis KV 2019'!E87","v":3815},{"$f":"'Rozpis KV 2019'!F87","v":4742.3999999999996},{"$f":"'Rozpis KV 2019'!G87","v":4689.2000000000007},98.878205128205153,16865.36,17052.36,16215.96,95.095107070223705]
["36-Bydlení, územní rozvoj, komunální služby",{"$f":"'Rozpis BV 2019'!E293","v":32328.949999999997},{"$f":"'Rozpis BV 2019'!F293","v":32279.310000000005},{"$f":"'Rozpis BV 2019'!G293","v":25007.269999999993},{"$f":"D11/C11*100","v":77.471513486502616},{"$f":"'Rozpis KV 2019'!E115","v":12145},{"$f":"'Rozpis KV 2019'!F115","v":12305.1},{"$f":"'Rozpis KV 2019'!G115","v":5943.8900000000012},{"$f":"H11/G11*100","v":48.304280339046421},44473.95,44584.41,30951.159999999996,{"$f":"L11/K11*100","v":69.421486120372549}]
["37-Ochrana životního prostředí",{"$f":"'Rozpis BV 2019'!E340","v":26455.5},{"$f":"'Rozpis BV 2019'!F340","v":26414.149999999998},{"$f":"'Rozpis BV 2019'!G340","v":23997.930000000004},{"$f":"D12/C12*100","v":90.852554407391523},{"$f":"'Rozpis KV 2019'!E127","v":4930},{"$f":"'Rozpis KV 2019'!F127","v":6220},{"$f":"'Rozpis KV 2019'!G127","v":5995.9900000000007},{"$f":"H12/G12*100","v":96.398553054662401},31385.5,32634.149999999998,29993.920000000006,91.909610025081108]
["39 - Ost.čin.souvis.se služ. pro obyv.",{"$f":"'Rozpis BV 2019'!E349","v":260},{"$f":"'Rozpis BV 2019'!F349","v":259.99999999999994},{"$f":"'Rozpis BV 2019'!G349","v":251.77},"x",null,null,null,"x",260,259.99999999999994,251.77,96.834615384615404]
["43 - Sociální péče",{"$f":"'Rozpis BV 2019'!E365","v":2979.5},{"$f":"'Rozpis BV 2019'!F365","v":2979.5},{"$f":"'Rozpis BV 2019'!G365","v":2964.5},"x",null,null,null,"x",2979.5,2979.5,2964.5,99.49655982547408]
["52-Civilní připravenost na krizové stavy",{"$f":"'Rozpis BV 2019'!E374","v":270},{"$f":"'Rozpis BV 2019'!F374","v":270},{"$f":"'Rozpis BV 2019'!G374","v":63.629999999999995},"x",null,null,null,"x",270,270,63.629999999999995,23.566666666666666]
["53-Bezpečnost a veřejný pořádek",{"$f":"'Rozpis BV 2019'!E380","v":550},{"$f":"'Rozpis BV 2019'!F380","v":470.7},{"$f":"'Rozpis BV 2019'!G380","v":280.3},{"$f":"D16/C16*100","v":59.549606968345024},{"$f":"'Rozpis KV 2019'!E129","v":600},{"$f":"'Rozpis KV 2019'!F129","v":1029.4000000000001},{"$f":"'Rozpis KV 2019'!G129","v":669.2},{"$f":"H16/G16*100","v":65.008742957062367},1150,1500.1000000000001,949.5,63.29578028131457]
["55 - Požární ochrana a IZS",{"$f":"'Rozpis BV 2019'!E410","v":1894.71},{"$f":"'Rozpis BV 2019'!F410","v":2048.9299999999998},{"$f":"'Rozpis BV 2019'!G410","v":1570.3100000000002},0,{"$f":"'Rozpis KV 2019'!E131","v":100},{"$f":"'Rozpis KV 2019'!F131","v":100},{"$f":"'Rozpis KV 2019'!G131","v":0},{"$f":"H17/G17*100","v":0},1994.71,2148.9299999999998,1570.3100000000002,73.074041499723137]
["61-Územní samospráva",{"$f":"'Rozpis BV 2019'!E470","v":55331},{"$f":"'Rozpis BV 2019'!F470","v":54198.04},{"$f":"'Rozpis BV 2019'!G470","v":50169.499999999985},{"$f":"D18/C18*100","v":92.567000577880648},{"$f":"'Rozpis KV 2019'!E136","v":1410},{"$f":"'Rozpis KV 2019'!F136","v":1653.19},{"$f":"'Rozpis KV 2019'!G136","v":1266.0999999999999},{"$f":"H18/G18*100","v":76.585268480936847},56741,55851.23,51435.599999999984,92.093943141449131]
["63 - Finanční operace",{"$f":"'Rozpis BV 2019'!E477","v":19243.330000000002},{"$f":"'Rozpis BV 2019'!F477","v":19235},{"$f":"'Rozpis BV 2019'!G477","v":8751.86},"x",null,null,null,"x",19243.330000000002,19235,8751.86,45.499662074343647]
["64 - ostatní činnosti",{"$f":"'Rozpis BV 2019'!E480","v":0},{"$f":"'Rozpis BV 2019'!F480","v":268.39999999999998},{"$f":"'Rozpis BV 2019'!G480","v":266.43},"x",null,null,null,"x",0,268.39999999999998,266.43,"x"]
["CELKEM",{"$f":"SUM(B3:B20)","v":246670.14999999997},{"$f":"SUM(C3:C20)","v":249310.4},{"$f":"SUM(D3:D20)","v":219113.49999999994},{"$f":"D21/C21*100","v":87.887829789691864},{"$f":"SUM(F3:F20)","v":118657.60000000001},{"$f":"SUM(G3:G20)","v":120728.69},109855.96000000002,{"$f":"H21/G21*100","v":90.994079369203803},365327.75,370039.08999999997,328969.45999999996,{"$f":"L21/K21*100","v":88.901272565555161}]